BEGIN:VCALENDAR
PRODID:-//AT Content Types//AT Event//EN
VERSION:2.0
METHOD:PUBLISH
BEGIN:VEVENT
DTSTAMP:20260420T002116Z
CREATED:20160224T112136Z
UID:ATEvent-ae9392f01199462a80fefd0a9171face
LAST-MODIFIED:20160304T082325Z
SUMMARY:XERRADA. SER PARES I MARES AVUI I COM SER AVIS I ÀVIES AVUI.
DTSTART:20160311T180000Z
DTEND:20160311T190000Z
LOCATION:Sala de Plens
CATEGORIES:EDUCACIÓ
CLASS:PUBLIC
END:VEVENT
END:VCALENDAR
