BEGIN:VCALENDAR
PRODID:-//AT Content Types//AT Event//EN
VERSION:1.0
BEGIN:VEVENT
DTSTART:20150508T170000Z
DTEND:20150508T180000Z
DCREATED:20150502T072908Z
UID:ATEvent-bdecb06844c2490886c256f22eb0b0d1
SEQUENCE:0
LAST-MODIFIED:20150502T072914Z
SUMMARY:XERRADA DINÀMICA: LA VIDA QUOTIDIANA\, A CÀRREC DE MONTSE CAMPS
DESCRIPTION:Inscripcions fins el 06 de maig
LOCATION:Llar d'Infants Municipal Patufet
PRIORITY:3
TRANSP:0
END:VEVENT
END:VCALENDAR
