BEGIN:VCALENDAR
PRODID:-//AT Content Types//AT Event//EN
VERSION:2.0
METHOD:PUBLISH
BEGIN:VEVENT
DTSTAMP:20260420T001256Z
CREATED:20160503T134519Z
UID:ATEvent-f3e421d8e1964f5083fba08dd1f49790
LAST-MODIFIED:20160503T134840Z
SUMMARY:XERRADA. CONTES\, L'ALIMENT PER L'ANIMA
DTSTART:20160506T170000Z
DTEND:20160506T180000Z
LOCATION:Llar d'Infants Patufet
CATEGORIES:EDUCACIÓ
CLASS:PUBLIC
END:VEVENT
END:VCALENDAR
