BEGIN:VCALENDAR
PRODID:-//AT Content Types//AT Event//EN
VERSION:1.0
BEGIN:VEVENT
DTSTART:20160315T183000Z
DTEND:20160315T193000Z
DCREATED:20160308T125636Z
UID:ATEvent-876228dc4cc64953af72ee5147874778
SEQUENCE:0
LAST-MODIFIED:20160308T125654Z
SUMMARY:XERRADA: CONSTRUIR COL·LECTIVAMENT AMB MATERIALS NATURALS I LOCALS. PROJECTE PATI A LA LLAR D'INFANTS MUNICIPAL PATUFET
LOCATION:Sala de Plens
PRIORITY:3
TRANSP:0
END:VEVENT
END:VCALENDAR
