BEGIN:VCALENDAR
PRODID:-//AT Content Types//AT Event//EN
VERSION:2.0
METHOD:PUBLISH
BEGIN:VEVENT
DTSTAMP:20260420T001603Z
CREATED:20160217T095805Z
UID:ATEvent-881cded64c334157a001ea14cb132de2
LAST-MODIFIED:20160217T115045Z
SUMMARY:UN DIA AL FEDAC GUISSONA
DTSTART:20160309T080000Z
DTEND:20160309T170000Z
LOCATION:FEDAC Guissona
CATEGORIES:EDUCACIÓ
CLASS:PUBLIC
END:VEVENT
END:VCALENDAR
