BEGIN:VCALENDAR
PRODID:-//AT Content Types//AT Event//EN
VERSION:1.0
BEGIN:VEVENT
DTSTART:20160124T090000Z
DTEND:20160124T120000Z
DCREATED:20160115T144829Z
UID:ATEvent-d4015e3f46e6442399a5174e0acfbbcb
SEQUENCE:0
LAST-MODIFIED:20160115T144837Z
SUMMARY:TROBADA DE JOC LLIURE I JOC AMB VALORS
LOCATION:Pavelló Municipal
PRIORITY:3
TRANSP:0
END:VEVENT
END:VCALENDAR
