BEGIN:VCALENDAR
PRODID:-//AT Content Types//AT Event//EN
VERSION:1.0
BEGIN:VEVENT
DTSTART:20160619T043000Z
DTEND:20160619T130000Z
DCREATED:20160520T081045Z
UID:ATEvent-366fc02eac374283983413c90d4bd4ee
SEQUENCE:0
LAST-MODIFIED:20160520T081050Z
SUMMARY:SORTIDA BTT
LOCATION:Terra alta/Baix Ebre
PRIORITY:3
TRANSP:0
END:VEVENT
END:VCALENDAR
