BEGIN:VCALENDAR
PRODID:-//AT Content Types//AT Event//EN
VERSION:2.0
METHOD:PUBLISH
BEGIN:VEVENT
DTSTAMP:20260420T001413Z
CREATED:20210324T084744Z
UID:ATEvent-c62954ce97a145979c1cb8f587aae6d8
LAST-MODIFIED:20210324T084814Z
SUMMARY:SORTEIG CONCURS INSTAGRAM. ESTESA DE LECTURES
DTSTART:20210425T180000Z
DTEND:20210425T181500Z
LOCATION:Instagram Pla Educatiu d'Entorn de Guissona
CATEGORIES:EDUCACIÓ
CLASS:PUBLIC
END:VEVENT
END:VCALENDAR
