BEGIN:VCALENDAR
PRODID:-//AT Content Types//AT Event//EN
VERSION:1.0
BEGIN:VEVENT
DTSTART:20170311T090000Z
DTEND:20170311T100000Z
DCREATED:20170301T084935Z
UID:ATEvent-b2bc2b0efc7949169f7363c142b5fb01
SEQUENCE:0
LAST-MODIFIED:20170301T085310Z
SUMMARY:QUÈ PUC FER PERQUÈ EXPLUSIN ELS MOCS?
LOCATION:Llar d’Infants Municipal Patufet
PRIORITY:3
TRANSP:0
END:VEVENT
END:VCALENDAR
