BEGIN:VCALENDAR
PRODID:-//AT Content Types//AT Event//EN
VERSION:2.0
METHOD:PUBLISH
BEGIN:VEVENT
DTSTAMP:20260420T001420Z
CREATED:20160217T113254Z
UID:ATEvent-cb2f0bcb34414339b248328c48863edf
LAST-MODIFIED:20160217T115543Z
SUMMARY:PRESENTACIÓ DEL PROJECTE PEDAGÒGIC FEDAC GUISSONA
DTSTART:20160310T180000Z
DTEND:20160310T190000Z
LOCATION:Sala d'actes del Fedac Guissona
CATEGORIES:EDUCACIÓ
CLASS:PUBLIC
END:VEVENT
END:VCALENDAR
