BEGIN:VCALENDAR
PRODID:-//AT Content Types//AT Event//EN
VERSION:2.0
METHOD:PUBLISH
BEGIN:VEVENT
DTSTAMP:20260420T002910Z
CREATED:20170327T091501Z
UID:ATEvent-69043ce3fc7b49cd9e7e16c165aa1c37
LAST-MODIFIED:20170327T091512Z
SUMMARY:L'ÚS DEL MÒBIL I LES NOVES TECNOLOGIES PER PART DELS NOSTRES FILLS
DTSTART:20170403T133000Z
DTEND:20170403T144500Z
LOCATION:Escola Ramon Estadella
CATEGORIES:EDUCACIÓ
CLASS:PUBLIC
END:VEVENT
END:VCALENDAR
