BEGIN:VCALENDAR
PRODID:-//AT Content Types//AT Event//EN
VERSION:1.0
BEGIN:VEVENT
DTSTART:20150509T083000Z
DTEND:20150509T100000Z
DCREATED:20150429T122055Z
UID:ATEvent-d2342c1df0d14c66940b51936e3576fd
SEQUENCE:0
LAST-MODIFIED:20150430T120556Z
SUMMARY:LIP DUB ... DE COLORS. APUNTA-T'HI!
LOCATION:Plaça Major (trobada)
PRIORITY:3
TRANSP:0
END:VEVENT
END:VCALENDAR
