BEGIN:VCALENDAR
PRODID:-//AT Content Types//AT Event//EN
VERSION:1.0
BEGIN:VEVENT
DTSTART:20190319T160000Z
DTEND:20190319T200000Z
DCREATED:20190313T151026Z
UID:ATEvent-947730c75bd9476e852baaf551d607c9
SEQUENCE:0
LAST-MODIFIED:20190318T084245Z
SUMMARY:LA MOBILITAT AMB BICICLETA A GUISSONA
LOCATION:Sala de Plens de l'Ajuntament
PRIORITY:3
TRANSP:0
END:VEVENT
END:VCALENDAR
