BEGIN:VCALENDAR
PRODID:-//AT Content Types//AT Event//EN
VERSION:2.0
METHOD:PUBLISH
BEGIN:VEVENT
DTSTAMP:20260420T012608Z
CREATED:20190614T140712Z
UID:ATEvent-aded9740794e4888906af87edea265b9
LAST-MODIFIED:20190614T140725Z
SUMMARY:LA MEDUSA PERDUDA
DTSTART:20190620T090000Z
DTEND:20190620T100000Z
LOCATION:Plaça del Vell Pla
CATEGORIES:EDUCACIÓ
CLASS:PUBLIC
END:VEVENT
END:VCALENDAR
