BEGIN:VCALENDAR
PRODID:-//AT Content Types//AT Event//EN
VERSION:1.0
BEGIN:VEVENT
DTSTART:20150717T210000Z
DTEND:20150717T215500Z
DCREATED:20150610T135531Z
UID:ATEvent-c7ec40f92d1c462c956f42099c3323ca
SEQUENCE:0
LAST-MODIFIED:20150610T135537Z
SUMMARY:LA GUERRA DE TROIA
LOCATION:Plaça Major
PRIORITY:3
TRANSP:0
END:VEVENT
END:VCALENDAR
