BEGIN:VCALENDAR
PRODID:-//AT Content Types//AT Event//EN
VERSION:1.0
BEGIN:VEVENT
DTSTART:20150911T083000Z
DTEND:20150911T130000Z
DCREATED:20150724T134721Z
UID:ATEvent-c8ae8e6132804e759721c33d7d0a2279
SEQUENCE:0
LAST-MODIFIED:20150724T134729Z
SUMMARY:LA DIADA
LOCATION:Guissona
PRIORITY:3
TRANSP:0
END:VEVENT
END:VCALENDAR
