BEGIN:VCALENDAR
PRODID:-//AT Content Types//AT Event//EN
VERSION:1.0
BEGIN:VEVENT
DTSTART:20150518T160000Z
DTEND:20150523T190000Z
DCREATED:20150421T084028Z
UID:ATEvent-c71aa46bf6074e809437dccf9743d0e3
SEQUENCE:0
LAST-MODIFIED:20150421T084041Z
SUMMARY:JORNADES DE PORTES OBERTES DE L’ESCOLA MUNICIPAL DE MÚSICA
DESCRIPTION:escola\, cultura
LOCATION:Escola Municipal de Música JM Llorens i Cisteró
PRIORITY:3
TRANSP:0
END:VEVENT
END:VCALENDAR
