BEGIN:VCALENDAR
PRODID:-//AT Content Types//AT Event//EN
VERSION:2.0
METHOD:PUBLISH
BEGIN:VEVENT
DTSTAMP:20260420T015124Z
CREATED:20150505T074307Z
UID:ATEvent-de7b68b9ae344bf2b057a403963908bd
LAST-MODIFIED:20150505T074312Z
SUMMARY:JORNADA FINANÇAMENT ALTERNATIU
DTSTART:20150612T100000Z
DTEND:20150612T120000Z
DESCRIPTION:impartida per Sra Sandra Font\, Cap de Finançament Intern
 acional i Alternatiu d’ACCIÓ
LOCATION:Sala de plens de l'Ajuntament
CATEGORIES:EDUCACIÓ
CLASS:PUBLIC
END:VEVENT
END:VCALENDAR
