BEGIN:VCALENDAR
PRODID:-//AT Content Types//AT Event//EN
VERSION:1.0
BEGIN:VEVENT
DTSTART:20170511T173000Z
DTEND:20170511T183000Z
DCREATED:20170504T132950Z
UID:ATEvent-3eb0e1c65d584b69a9493aef24bc7f2d
SEQUENCE:0
LAST-MODIFIED:20170504T132956Z
SUMMARY:JORNADA DE PORTES OBERTES ALS CICLES
LOCATION:INS Guissona
PRIORITY:3
TRANSP:0
END:VEVENT
END:VCALENDAR
