BEGIN:VCALENDAR
PRODID:-//AT Content Types//AT Event//EN
VERSION:1.0
BEGIN:VEVENT
DTSTART:20160312T100000Z
DTEND:20160312T120000Z
DCREATED:20160217T113551Z
UID:ATEvent-2dab087217124ef1bd945d9c1b3f700a
SEQUENCE:0
LAST-MODIFIED:20160217T115616Z
SUMMARY:JORNADA DE PORTES OBERTES AL FEDAC GUISSONA
LOCATION:FEDAC Guissona
PRIORITY:3
TRANSP:0
END:VEVENT
END:VCALENDAR
