BEGIN:VCALENDAR
PRODID:-//AT Content Types//AT Event//EN
VERSION:1.0
BEGIN:VEVENT
DTSTART:20160303T190000Z
DTEND:20160303T210000Z
DCREATED:20160217T095511Z
UID:ATEvent-bb2db2b3de7746db940a868a6f2e5bcc
SEQUENCE:0
LAST-MODIFIED:20160217T114954Z
SUMMARY:JORNADA DE PORTES OBERTES A L'INS GUISSONA
DESCRIPTION:Dijous\, 3 de març a les 20h
LOCATION:INS Guissona
PRIORITY:3
TRANSP:0
END:VEVENT
END:VCALENDAR
