BEGIN:VCALENDAR
PRODID:-//AT Content Types//AT Event//EN
VERSION:2.0
METHOD:PUBLISH
BEGIN:VEVENT
DTSTAMP:20260420T002822Z
CREATED:20160217T114047Z
UID:ATEvent-05802479c4b241f5a932005297160e6d
LAST-MODIFIED:20160217T114936Z
SUMMARY:JORNADA DE PORTES OBERTES A L'ESCOLA RAMON FAUS I ESTEVE
DTSTART:20160330T151500Z
DTEND:20160330T171500Z
DESCRIPTION:Dimecres\, 30 de març  de 17.15 a 19.15h
LOCATION:Escola Ramon Faus i Esteve
CATEGORIES:EDUCACIÓ
CLASS:PUBLIC
END:VEVENT
END:VCALENDAR
