BEGIN:VCALENDAR
PRODID:-//AT Content Types//AT Event//EN
VERSION:1.0
BEGIN:VEVENT
DTSTART:20160304T160000Z
DTEND:20160304T180000Z
DCREATED:20160217T095158Z
UID:ATEvent-abf093b8797446a8830670ec5f86f033
SEQUENCE:0
LAST-MODIFIED:20160217T115020Z
SUMMARY:JORNADA DE PORTES OBERTES A L'ESCOLA RAMON ESTADELLA
DESCRIPTION:Divendres\, 4 de març de 17 a 19h
LOCATION:Escola Ramon Estadella
PRIORITY:3
TRANSP:0
END:VEVENT
END:VCALENDAR
