BEGIN:VCALENDAR
PRODID:-//AT Content Types//AT Event//EN
VERSION:2.0
METHOD:PUBLISH
BEGIN:VEVENT
DTSTAMP:20260420T032157Z
CREATED:20150224T163929Z
UID:ATEvent-e6fb70e697a7487ebed2a4a5fc5be404
LAST-MODIFIED:20150415T124614Z
SUMMARY:Jornada de portes obertes a la Llar d'Infants Patufet
DTSTART:20150418T090000Z
DTEND:20150418T110000Z
LOCATION:Llar d'Infants Patufet
CATEGORIES:EDUCACIÓ
CLASS:PUBLIC
END:VEVENT
END:VCALENDAR
