BEGIN:VCALENDAR
PRODID:-//AT Content Types//AT Event//EN
VERSION:1.0
BEGIN:VEVENT
DTSTART:20160416T090000Z
DTEND:20160416T110000Z
DCREATED:20160217T114904Z
UID:ATEvent-ff762cdec62f4042b35fd34ff6448cf8
SEQUENCE:0
LAST-MODIFIED:20160217T114919Z
SUMMARY:JORNADA DE PORTES OBERTES A LA LLAR D'INFANTS PATUFET
LOCATION:Llar d'Infants Patufet
PRIORITY:3
TRANSP:0
END:VEVENT
END:VCALENDAR
