BEGIN:VCALENDAR
PRODID:-//AT Content Types//AT Event//EN
VERSION:1.0
BEGIN:VEVENT
DTSTART:20150914T070000Z
DTEND:20150914T070000Z
DCREATED:20150914T083154Z
UID:ATEvent-533d42ba968c43ab91746bddaab52a37
SEQUENCE:0
LAST-MODIFIED:20150914T083256Z
SUMMARY:INICI DEL CURS ESCOLAR
LOCATION:Centres educatius de la vila
PRIORITY:3
TRANSP:0
END:VEVENT
END:VCALENDAR
