BEGIN:VCALENDAR
PRODID:-//AT Content Types//AT Event//EN
VERSION:1.0
BEGIN:VEVENT
DTSTART:20150908T093000Z
DTEND:20150908T215500Z
DCREATED:20150724T134253Z
UID:ATEvent-e1104488a37f40dbbb61e47f82d92555
SEQUENCE:0
LAST-MODIFIED:20150819T080851Z
SUMMARY:Festa Major 2015
LOCATION:Guissona
PRIORITY:3
TRANSP:0
END:VEVENT
END:VCALENDAR
