BEGIN:VCALENDAR
PRODID:-//AT Content Types//AT Event//EN
VERSION:2.0
METHOD:PUBLISH
BEGIN:VEVENT
DTSTAMP:20260419T123444Z
CREATED:20150724T133933Z
UID:ATEvent-ba208cb2af604f1da00c59fdbbeddb1d
LAST-MODIFIED:20150821T112119Z
SUMMARY:Festa Major 2015
DTSTART:20150906T134000Z
DTEND:20150906T134000Z
LOCATION:Guissona
CATEGORIES:FESTES
CLASS:PUBLIC
END:VEVENT
END:VCALENDAR
