BEGIN:VCALENDAR
PRODID:-//AT Content Types//AT Event//EN
VERSION:2.0
METHOD:PUBLISH
BEGIN:VEVENT
DTSTAMP:20260420T015241Z
CREATED:20150224T163942Z
UID:ATEvent-de0dff4601e840bca8548a2710dc1a5f
LAST-MODIFIED:20150429T133948Z
SUMMARY:FESTA FI DE CURS - LLAR D'INFANTS MUNICIPAL PATUFET
DTSTART:20150612T160000Z
DTEND:20150612T180000Z
LOCATION:Llar d'Infants Patufet
CATEGORIES:EDUCACIÓ
CLASS:PUBLIC
END:VEVENT
END:VCALENDAR
