BEGIN:VCALENDAR
PRODID:-//AT Content Types//AT Event//EN
VERSION:1.0
BEGIN:VEVENT
DTSTART:20150725T120000Z
DTEND:20150725T215500Z
DCREATED:20150603T084833Z
UID:ATEvent-4cf0a38845804f6fa290c3cf61ef24fe
SEQUENCE:0
LAST-MODIFIED:20150724T125525Z
SUMMARY:FESTA DE COLÒMBIA
DESCRIPTION:cultura\, Guissona\, Colòmbia
LOCATION:Zona Esportiva
PRIORITY:3
TRANSP:0
END:VEVENT
END:VCALENDAR
