BEGIN:VCALENDAR
PRODID:-//AT Content Types//AT Event//EN
VERSION:2.0
METHOD:PUBLISH
BEGIN:VEVENT
DTSTAMP:20260420T002002Z
CREATED:20210324T084407Z
UID:ATEvent-39e5e80f862b4314a338f27f8ecfeb51
LAST-MODIFIED:20210324T084548Z
SUMMARY:EXPOSICIÓ. ESTESA DE LECTURES
DTSTART:20210419T100000Z
DTEND:20210425T213000Z
LOCATION:Placeta Bisbe Benlloch
CATEGORIES:CULTURA, EDUCACIÓ
CLASS:PUBLIC
END:VEVENT
END:VCALENDAR
