BEGIN:VCALENDAR
PRODID:-//AT Content Types//AT Event//EN
VERSION:2.0
METHOD:PUBLISH
BEGIN:VEVENT
DTSTAMP:20260420T002048Z
CREATED:20160308T130407Z
UID:ATEvent-b3fb61454e3d4e218bc6ff4b7a4be692
LAST-MODIFIED:20160308T130451Z
SUMMARY:ESCRIVIM UN CONTE. LA DINOUSAURE FLOR
DTSTART:20160308T160000Z
DTEND:20160308T161500Z
LOCATION:Plaça Major
CATEGORIES:CULTURA, EDUCACIÓ
CLASS:PUBLIC
END:VEVENT
END:VCALENDAR
