BEGIN:VCALENDAR
PRODID:-//AT Content Types//AT Event//EN
VERSION:1.0
BEGIN:VEVENT
DTSTART:20150415T180000Z
DTEND:20150415T200000Z
DCREATED:20150224T163928Z
UID:ATEvent-0ee436d8c68540ea941e3725100bbd07
SEQUENCE:0
LAST-MODIFIED:20150414T124408Z
SUMMARY:Escola de pares: xerrada "Noves tecnologies: un problema o un avantatge?"
DESCRIPTION:a càrrec de Júlia Garcia i Prats\, psicòloga infantil i
  juvenil.
LOCATION:Sala de plens de l'Ajuntament
PRIORITY:3
TRANSP:0
END:VEVENT
END:VCALENDAR
