BEGIN:VCALENDAR
PRODID:-//AT Content Types//AT Event//EN
VERSION:1.0
BEGIN:VEVENT
DTSTART:20160217T190000Z
DTEND:20160217T200000Z
DCREATED:20150928T134746Z
UID:ATEvent-f7d6d18afe114a0da4026db1d9341cb8
SEQUENCE:0
LAST-MODIFIED:20160201T115231Z
SUMMARY:ESCOLA DE PARES I MARES: QUÈ EN SAPS DE LES VACUNES?
LOCATION:Sala de Plens
PRIORITY:3
TRANSP:0
END:VEVENT
END:VCALENDAR
