BEGIN:VCALENDAR
PRODID:-//AT Content Types//AT Event//EN
VERSION:1.0
BEGIN:VEVENT
DTSTART:20160120T190000Z
DTEND:20160120T203000Z
DCREATED:20150928T134123Z
UID:ATEvent-1f2fa2a52ee5444aaeabc21d5886c299
SEQUENCE:0
LAST-MODIFIED:20150928T134130Z
SUMMARY:ESCOLA DE PARES I MARES: PARLAR DE SEXE AMB ELS FILLS
LOCATION:Sala de Plens
PRIORITY:3
TRANSP:0
END:VEVENT
END:VCALENDAR
