BEGIN:VCALENDAR
PRODID:-//AT Content Types//AT Event//EN
VERSION:2.0
METHOD:PUBLISH
BEGIN:VEVENT
DTSTAMP:20260420T002329Z
CREATED:20190521T140051Z
UID:ATEvent-c5248d099c244a1ebd1acc157f474bb1
LAST-MODIFIED:20190521T140132Z
SUMMARY:ESCOLA DE PARES I MARES. LES RABIETES INFANTILS - MÍRIAM TIRADO
DTSTART:20190524T173000Z
DTEND:20190524T183000Z
LOCATION:Biblioteca de Guissona
CATEGORIES:EDUCACIÓ
CLASS:PUBLIC
END:VEVENT
END:VCALENDAR
