BEGIN:VCALENDAR
PRODID:-//AT Content Types//AT Event//EN
VERSION:1.0
BEGIN:VEVENT
DTSTART:20151118T190000Z
DTEND:20151118T203000Z
DCREATED:20150928T133802Z
UID:ATEvent-e954d4a6a158489c898759c8a50a80d8
SEQUENCE:0
LAST-MODIFIED:20150928T133811Z
SUMMARY:ESCOLA DE PARES I MARES: JOGUINES PER VIURE
LOCATION:Sala de Plens
PRIORITY:3
TRANSP:0
END:VEVENT
END:VCALENDAR
