BEGIN:VCALENDAR
PRODID:-//AT Content Types//AT Event//EN
VERSION:1.0
BEGIN:VEVENT
DTSTART:20151216T190000Z
DTEND:20151216T203000Z
DCREATED:20150928T133937Z
UID:ATEvent-8a12ebc2fadd4adf8981c8980d9b321c
SEQUENCE:0
LAST-MODIFIED:20150928T133945Z
SUMMARY:ESCOLA DE PARES I MARES: ESMORZARS SALUDABLES
LOCATION:Sala de Plens
PRIORITY:3
TRANSP:0
END:VEVENT
END:VCALENDAR
