BEGIN:VCALENDAR
PRODID:-//AT Content Types//AT Event//EN
VERSION:2.0
METHOD:PUBLISH
BEGIN:VEVENT
DTSTAMP:20260420T014552Z
CREATED:20150928T135046Z
UID:ATEvent-72235ac0a15d4f829cc897c4d6f86888
LAST-MODIFIED:20160419T082520Z
SUMMARY:ESCOLA DE PARES I MARES: EL MEU FILL POT TENIR ANSIETAT?
DTSTART:20160420T180000Z
DTEND:20160420T193000Z
LOCATION:Sala de Plens
CATEGORIES:EDUCACIÓ
CLASS:PUBLIC
END:VEVENT
END:VCALENDAR
