BEGIN:VCALENDAR
PRODID:-//AT Content Types//AT Event//EN
VERSION:1.0
BEGIN:VEVENT
DTSTART:20151014T180000Z
DTEND:20151014T193000Z
DCREATED:20150928T133559Z
UID:ATEvent-555dd54635f545549def9d99f813dd13
SEQUENCE:0
LAST-MODIFIED:20150928T133607Z
SUMMARY:ESCOLA DE PARES I MARES: ACOMPANYAMENT ESCOLAR
LOCATION:Sala de Plens
PRIORITY:3
TRANSP:0
END:VEVENT
END:VCALENDAR
