BEGIN:VCALENDAR
PRODID:-//AT Content Types//AT Event//EN
VERSION:2.0
METHOD:PUBLISH
BEGIN:VEVENT
DTSTAMP:20260420T002121Z
CREATED:20210209T084842Z
UID:ATEvent-c710df25d9a442779fcca8951931662b
LAST-MODIFIED:20210209T085645Z
SUMMARY:ESCOLA DE FAMÍLIES. EDUCACIÓ EMOCIONAL A CASA
DTSTART:20210317T183000Z
DTEND:20210317T200000Z
LOCATION:Formació online
CATEGORIES:EDUCACIÓ
CLASS:PUBLIC
END:VEVENT
END:VCALENDAR
