BEGIN:VCALENDAR
PRODID:-//AT Content Types//AT Event//EN
VERSION:1.0
BEGIN:VEVENT
DTSTART:20150512T180000Z
DTEND:20150512T190000Z
DCREATED:20150430T120349Z
UID:ATEvent-2ec770daf2cf4b148625e8dab7e4d4a5
SEQUENCE:0
LAST-MODIFIED:20150430T120446Z
SUMMARY:ELS VIDEOJOCS. UNA REALITAT PARAL·LELA
LOCATION:Biblioteca de l'INS Guissona
PRIORITY:3
TRANSP:0
END:VEVENT
END:VCALENDAR
