BEGIN:VCALENDAR
PRODID:-//AT Content Types//AT Event//EN
VERSION:1.0
BEGIN:VEVENT
DTSTART:20160712T090000Z
DTEND:20160712T100000Z
DCREATED:20160707T150022Z
UID:ATEvent-723c6b067f3543c5a5c2e67ef524cf28
SEQUENCE:0
LAST-MODIFIED:20160707T150029Z
SUMMARY:DISFRUITA AMB LA CREMALLERA
LOCATION:Biblioteca de Guissona
PRIORITY:3
TRANSP:0
END:VEVENT
END:VCALENDAR
