BEGIN:VCALENDAR
PRODID:-//AT Content Types//AT Event//EN
VERSION:2.0
METHOD:PUBLISH
BEGIN:VEVENT
DTSTAMP:20260420T001231Z
CREATED:20160112T114335Z
UID:ATEvent-d07b499e88604309a7ab35b2dda75301
LAST-MODIFIED:20160112T114354Z
SUMMARY:CARNESTOLTES INTERGENERACIONAL
DTSTART:20160205T153000Z
DTEND:20160205T170000Z
CATEGORIES:EDUCACIÓ
CLASS:PUBLIC
END:VEVENT
END:VCALENDAR
