BEGIN:VCALENDAR
PRODID:-//AT Content Types//AT Event//EN
VERSION:1.0
BEGIN:VEVENT
DTSTART:20151222T091500Z
DTEND:20151222T110000Z
DCREATED:20151216T132729Z
UID:ATEvent-783a2a6e9630441e884a5c0b1804d565
SEQUENCE:0
LAST-MODIFIED:20151216T132737Z
SUMMARY:CANTADA DE NADALES I ACTUACIÓ DE LEXU'S
LOCATION:Pavelló petit
PRIORITY:3
TRANSP:0
END:VEVENT
END:VCALENDAR
