BEGIN:VCALENDAR
PRODID:-//AT Content Types//AT Event//EN
VERSION:1.0
BEGIN:VEVENT
DTSTART:20150711T100000Z
DTEND:20150711T213000Z
DCREATED:20150603T084134Z
UID:ATEvent-7191d8db380e49f6bf5610f7df3961ff
SEQUENCE:0
LAST-MODIFIED:20150706T102325Z
SUMMARY:SANT CRISTÒFOL
LOCATION:Plaça del Bisbe Benlloch
PRIORITY:3
TRANSP:0
END:VEVENT
END:VCALENDAR
