BEGIN:VCALENDAR
PRODID:-//AT Content Types//AT Event//EN
VERSION:2.0
METHOD:PUBLISH
BEGIN:VEVENT
DTSTAMP:20260419T084851Z
CREATED:20150610T134026Z
UID:ATEvent-7048c5de2ff04187b0525665856ced03
LAST-MODIFIED:20150610T134035Z
SUMMARY:ARRIBADA DE JULI CÈSAR I LA REINA CLÈOPATRA I RECEPCIÓ PER PART DEL SENAT.
DTSTART:20150713T174500Z
DTEND:20150713T174500Z
LOCATION:Plaça Major
CATEGORIES:FESTES, CULTURA
CLASS:PUBLIC
END:VEVENT
END:VCALENDAR
