BEGIN:VCALENDAR
PRODID:-//AT Content Types//AT Event//EN
VERSION:2.0
METHOD:PUBLISH
BEGIN:VEVENT
DTSTAMP:20260420T032156Z
CREATED:20150414T080747Z
UID:ATEvent-6b998c3b0ec34296a3f8d6cfb568d4e8
LAST-MODIFIED:20150414T124158Z
SUMMARY:ACTE D’ENTREGA DE PREMIS - XII PREMI JORDI PÀMIAS
DTSTART:20150417T170000Z
DTEND:20150417T183000Z
LOCATION:INS Guissona
CATEGORIES:EDUCACIÓ
CLASS:PUBLIC
END:VEVENT
END:VCALENDAR
